BEGIN:VCALENDAR
VERSION:2.0
PRODID:-//ΚΟΜΜΑ ΓΙΑ ΤΑ ΖΩΑ ΚΥΠΡΟΥ - ECPv6.15.16//NONSGML v1.0//EN
CALSCALE:GREGORIAN
METHOD:PUBLISH
X-ORIGINAL-URL:https://animalpartycyprus.com
X-WR-CALDESC:Events for ΚΟΜΜΑ ΓΙΑ ΤΑ ΖΩΑ ΚΥΠΡΟΥ
REFRESH-INTERVAL;VALUE=DURATION:PT1H
X-Robots-Tag:noindex
X-PUBLISHED-TTL:PT1H
BEGIN:VTIMEZONE
TZID:Europe/Athens
BEGIN:DAYLIGHT
TZOFFSETFROM:+0200
TZOFFSETTO:+0300
TZNAME:EEST
DTSTART:20200329T010000
END:DAYLIGHT
BEGIN:STANDARD
TZOFFSETFROM:+0300
TZOFFSETTO:+0200
TZNAME:EET
DTSTART:20201025T010000
END:STANDARD
BEGIN:DAYLIGHT
TZOFFSETFROM:+0200
TZOFFSETTO:+0300
TZNAME:EEST
DTSTART:20210328T010000
END:DAYLIGHT
BEGIN:STANDARD
TZOFFSETFROM:+0300
TZOFFSETTO:+0200
TZNAME:EET
DTSTART:20211031T010000
END:STANDARD
BEGIN:DAYLIGHT
TZOFFSETFROM:+0200
TZOFFSETTO:+0300
TZNAME:EEST
DTSTART:20220327T010000
END:DAYLIGHT
BEGIN:STANDARD
TZOFFSETFROM:+0300
TZOFFSETTO:+0200
TZNAME:EET
DTSTART:20221030T010000
END:STANDARD
END:VTIMEZONE
BEGIN:VEVENT
DTSTART;TZID=Europe/Athens:20210411T103000
DTEND;TZID=Europe/Athens:20210411T113000
DTSTAMP:20260422T193108
CREATED:20210410T090112Z
LAST-MODIFIED:20210410T173359Z
UID:18279-1618137000-1618140600@animalpartycyprus.com
SUMMARY:ΚΟΙΝΗ ΕΚΔΗΛΩΣΗ ΜΕ ΤΟΝ ΔΗΜΟ ΛΕΜΕΣΟΥ ΤΟ ΠΑΡΚΟ ΣΚΥΛΩΝ ΣΤΗΝ ΛΕΜΕΣΟ ΜΙΑ ΠΡΑΓΜΑΤΙΚΟΤΗΤΑ
DESCRIPTION:Διαχρονικό ήταν το αίτημα του κόμματος για τα ζώα Κύπρου και των απανταχού Λεμεσιανών φιλόζωων για τη δημιουργία πάρκου για τους τετράποδους φίλους μας. \nΘέλουμε να συγχαρούμε θερμά τον Δήμαρχο Λεμεσού κον Ν. Νικολαΐδη ο οποίος έκανε πραγματικότητα αυτό το πάγιο αίτημα μας. \nΓια τον λόγο αυτό\, το Κόμμα για τα Ζώα Κύπρου διοργανώνουν κοινή εκδήλωση με τον Δήμο Λεμεσού στην παρουσία του Δημάρχου\, την Κυριακή 11 Απριλίου και η ώρα 10.30 το πρωί στο χώρο του πάρκου σκύλων στο χώρο της Α’ Δημοτικής Αγοράς στο Ζακάκι. \nΚαλούμε όλους τους φίλους και φίλες όπως προσέλθουν με τα τετράποδά τους για να περάσουν ένα ευχάριστο πρωινό έχοντας την ευκαιρία να κοινωνικοποιήσουν τους σκύλους τους είτε μεταξύ τους είτε μεταξύ των κηδεμόνων τους.
URL:https://animalpartycyprus.com/event/joint-event-for-dog-park/
LOCATION:Στο χώρο του πάρκου σκύλων στο χώρο της Α’ Δημοτικής Αγοράς στο Ζακάκι.\, Στο χώρο του πάρκου σκύλων στο χώρο της Α’ Δημοτικής Αγοράς στο Ζακάκι.\, Λεμεσός\, Cyprus
CATEGORIES:Εκδηλώσεις
ATTACH;FMTTYPE=image/png:https://animalpartycyprus.com/wp-content/uploads/2021/04/park-limmasol.png
END:VEVENT
END:VCALENDAR